BEGIN:VCALENDAR
VERSION:2.0
PRODID:-//ANWEB//NONSTOP KINO//EN
CALSCALE:GREGORIAN
BEGIN:VEVENT
DTSTART:20260427T180000Z
DTEND:20260427T202000Z
UID:69ecc363d57c1
DTSTAMP:20260425T113635Z
LOCATION:Schubert Kino, https://schubertkino.at/
DESCRIPTION:In den Wirren des 30-jährigen Krieges erscheint ein fremder Soldat (ROSE) in einem abgeschiedenen\, protestantischen Dorf und behauptet\, der Erbe...
URL;VALUE=URI:https://schubertkino.at/
SUMMARY:Rose
END:VEVENT
END:VCALENDAR