BEGIN:VCALENDAR
VERSION:2.0
PRODID:-//ANWEB//NONSTOP KINO//EN
CALSCALE:GREGORIAN
BEGIN:VEVENT
DTSTART:20260426T133000Z
DTEND:20260426T153000Z
UID:69e88ed1a56c8
DTSTAMP:20260422T070313Z
LOCATION:KIZ Royalkino, https://kizroyalkino.at/#/daily
DESCRIPTION:
URL;VALUE=URI:https://kizroyalkino.at/#/daily
SUMMARY:Nur Pferden gibt man den Gnadenschuss
END:VEVENT
END:VCALENDAR