BEGIN:VCALENDAR
VERSION:2.0
PRODID:-//ANWEB//NONSTOP KINO//EN
CALSCALE:GREGORIAN
BEGIN:VEVENT
DTSTART:20260426T091500Z
DTEND:20260426T123500Z
UID:69e91106f1608
DTSTAMP:20260422T161846Z
LOCATION:KIZ Royalkino, https://kizroyalkino.at/#/daily
DESCRIPTION:Als ihr erbitterter Erzfeind nach 16 Jahren wieder auftaucht\, schließt sich eine Gruppe ehemaliger Revolutionäre erneut zusammen\, um die Tochter...
URL;VALUE=URI:https://kizroyalkino.at/#/daily
SUMMARY:One Battle After Another
END:VEVENT
END:VCALENDAR