BEGIN:VCALENDAR
VERSION:2.0
PRODID:-//ANWEB//NONSTOP KINO//EN
CALSCALE:GREGORIAN
BEGIN:VEVENT
DTSTART:20260426T160000Z
DTEND:20260426T175000Z
UID:69ecc33e7e44a
DTSTAMP:20260425T113558Z
LOCATION:Actors Studio, https://cineplexx.at/cinemas/Actors-Studio
DESCRIPTION:Aufwachsen in Teheran\, einer Hauptstadt des 21. Jahrhunderts… Von 2007 bis 2025\, in einer liebevollen Familie\, achtzehn Jahre im Leben...
URL;VALUE=URI:https://cineplexx.at/cinemas/Actors-Studio
SUMMARY:All my Sisters
END:VEVENT
END:VCALENDAR