BEGIN:VCALENDAR
VERSION:2.0
PRODID:-//ANWEB//NONSTOP KINO//EN
CALSCALE:GREGORIAN
BEGIN:VEVENT
DTSTART:20260429T154500Z
DTEND:20260429T173500Z
UID:69ecc12e01700
DTSTAMP:20260425T112710Z
LOCATION:Actors Studio, https://cineplexx.at/cinemas/Actors-Studio
DESCRIPTION:Aufwachsen in Teheran\, einer Hauptstadt des 21. Jahrhunderts… Von 2007 bis 2025\, in einer liebevollen Familie\, achtzehn Jahre im Leben...
URL;VALUE=URI:https://cineplexx.at/cinemas/Actors-Studio
SUMMARY:All my Sisters
END:VEVENT
END:VCALENDAR