BEGIN:VCALENDAR
VERSION:2.0
PRODID:-//ANWEB//NONSTOP KINO//EN
CALSCALE:GREGORIAN
BEGIN:VEVENT
DTSTART:20260426T173000Z
DTEND:20260426T195000Z
UID:69ecc24fd90ad
DTSTAMP:20260425T113159Z
LOCATION:DAS KINO, https://www.daskino.at/
DESCRIPTION:In den Wirren des 30-jährigen Krieges erscheint ein fremder Soldat (ROSE) in einem abgeschiedenen\, protestantischen Dorf und behauptet\, der Erbe...
URL;VALUE=URI:https://www.daskino.at/
SUMMARY:Rose
END:VEVENT
END:VCALENDAR