BEGIN:VCALENDAR
VERSION:2.0
PRODID:-//ANWEB//NONSTOP KINO//EN
CALSCALE:GREGORIAN
BEGIN:VEVENT
DTSTART:20260429T161500Z
DTEND:20260429T183500Z
UID:69ecc227afcda
DTSTAMP:20260425T113119Z
LOCATION:Gartenbaukino, http://gartenbaukino.at/
DESCRIPTION:In den Wirren des 30-jährigen Krieges erscheint ein fremder Soldat (ROSE) in einem abgeschiedenen\, protestantischen Dorf und behauptet\, der Erbe...
URL;VALUE=URI:http://gartenbaukino.at/
SUMMARY:Rose
END:VEVENT
END:VCALENDAR