BEGIN:VCALENDAR
VERSION:2.0
PRODID:-//ANWEB//NONSTOP KINO//EN
CALSCALE:GREGORIAN
BEGIN:VEVENT
DTSTART:20260426T091500Z
DTEND:20260426T112500Z
UID:69e77270c0b5a
DTSTAMP:20260421T104952Z
LOCATION:Kino Freistadt, https://www.kino-freistadt.at/
DESCRIPTION:Nachdem er durch den Kosmos geschleudert wurde\, schließt sich Mario mit Rosalina und Luma zusammen\, um Bowser daran zu hindern\,...
URL;VALUE=URI:https://www.kino-freistadt.at/
SUMMARY:Der Super Mario Galaxy Film
END:VEVENT
END:VCALENDAR