BEGIN:VCALENDAR
VERSION:2.0
PRODID:-//ANWEB//NONSTOP KINO//EN
CALSCALE:GREGORIAN
BEGIN:VEVENT
DTSTART:20260427T181500Z
DTEND:20260427T200500Z
UID:69ecc12949ddd
DTSTAMP:20260425T112705Z
LOCATION:Kino Freistadt, https://www.kino-freistadt.at/
DESCRIPTION:Aufwachsen in Teheran\, einer Hauptstadt des 21. Jahrhunderts… Von 2007 bis 2025\, in einer liebevollen Familie\, achtzehn Jahre im Leben...
URL;VALUE=URI:https://www.kino-freistadt.at/
SUMMARY:All my Sisters
END:VEVENT
END:VCALENDAR