BEGIN:VCALENDAR
VERSION:2.0
PRODID:-//ANWEB//NONSTOP KINO//EN
CALSCALE:GREGORIAN
BEGIN:VEVENT
DTSTART:20260430T183000Z
DTEND:20260430T202000Z
UID:69ecc2bfb7469
DTSTAMP:20260425T113351Z
LOCATION:Programmkino Wels, https://programmkinowels.at/
DESCRIPTION:Aufwachsen in Teheran\, einer Hauptstadt des 21. Jahrhunderts… Von 2007 bis 2025\, in einer liebevollen Familie\, achtzehn Jahre im Leben...
URL;VALUE=URI:https://programmkinowels.at/
SUMMARY:All my Sisters
END:VEVENT
END:VCALENDAR