BEGIN:VCALENDAR
VERSION:2.0
PRODID:-//ANWEB//NONSTOP KINO//EN
CALSCALE:GREGORIAN
BEGIN:VEVENT
DTSTART:20260426T113000Z
DTEND:20260426T141000Z
UID:69e771fd1abe2
DTSTAMP:20260421T104757Z
LOCATION:Filmhaus, https://filmcasino.at/
DESCRIPTION:Derya (Özgü Namal) und Aziz (Tansu Biçer)\, ein gefeiertes Künstlerehepaar aus Ankara\, führen mit ihrer 13-jährigen Tochter Ezgi ein erfülltes...
URL;VALUE=URI:https://filmcasino.at/
SUMMARY:Gelbe Briefe
END:VEVENT
END:VCALENDAR