BEGIN:VCALENDAR
VERSION:2.0
PRODID:-//ANWEB//NONSTOP KINO//EN
CALSCALE:GREGORIAN
BEGIN:VEVENT
DTSTART:20260425T132500Z
DTEND:20260425T160500Z
UID:69e7726adc38d
DTSTAMP:20260421T104946Z
LOCATION:Leokino, https://www.leokino.at/
DESCRIPTION:Derya (Özgü Namal) und Aziz (Tansu Biçer)\, ein gefeiertes Künstlerehepaar aus Ankara\, führen mit ihrer 13-jährigen Tochter Ezgi ein erfülltes...
URL;VALUE=URI:https://www.leokino.at/
SUMMARY:Gelbe Briefe
END:VEVENT
END:VCALENDAR