BEGIN:VCALENDAR
VERSION:2.0
PRODID:-//ANWEB//NONSTOP KINO//EN
CALSCALE:GREGORIAN
BEGIN:VEVENT
DTSTART:20260427T154500Z
DTEND:20260427T180500Z
UID:69ecc30fa5958
DTSTAMP:20260425T113511Z
LOCATION:Leokino, https://www.leokino.at/
DESCRIPTION:In den Wirren des 30-jährigen Krieges erscheint ein fremder Soldat (ROSE) in einem abgeschiedenen\, protestantischen Dorf und behauptet\, der Erbe...
URL;VALUE=URI:https://www.leokino.at/
SUMMARY:Rose
END:VEVENT
END:VCALENDAR