BEGIN:VCALENDAR
VERSION:2.0
PRODID:-//ANWEB//NONSTOP KINO//EN
CALSCALE:GREGORIAN
BEGIN:VEVENT
DTSTART:20260428T160000Z
DTEND:20260428T174000Z
UID:69e989be2dc17
DTSTAMP:20260423T005350Z
LOCATION:Leokino, https://www.leokino.at/
DESCRIPTION:Oliver Ressler (*1970 in Knittelfeld\, lebt und arbeitet in Wien) realisiert Installationen\, Projekte im öffentlichen Raum und Filme zu Themen...
URL;VALUE=URI:https://www.leokino.at/
SUMMARY:Innsbruck International: Oliver Ressler
END:VEVENT
END:VCALENDAR