BEGIN:VCALENDAR
VERSION:2.0
PRODID:-//ANWEB//NONSTOP KINO//EN
CALSCALE:GREGORIAN
BEGIN:VEVENT
DTSTART:20260424T180000Z
DTEND:20260424T200000Z
UID:69e988a0d648c
DTSTAMP:20260423T004904Z
LOCATION:Cinematograph, https://www.leokino.at/
DESCRIPTION:Lux Efflart und Loz Ellenard sind auf einer Aufklärungsmission auf einem entfernten Planeten\, der von den Alratern und anderen Gegenspielern...
URL;VALUE=URI:https://www.leokino.at/
SUMMARY:Loz und die Luzyahner
END:VEVENT
END:VCALENDAR