BEGIN:VCALENDAR
VERSION:2.0
PRODID:-//ANWEB//NONSTOP KINO//EN
CALSCALE:GREGORIAN
BEGIN:VEVENT
DTSTART:20260430T182500Z
DTEND:20260430T201500Z
UID:69ecc2bf37c24
DTSTAMP:20260425T113351Z
LOCATION:Cinematograph, https://www.leokino.at/
DESCRIPTION:Aufwachsen in Teheran\, einer Hauptstadt des 21. Jahrhunderts… Von 2007 bis 2025\, in einer liebevollen Familie\, achtzehn Jahre im Leben...
URL;VALUE=URI:https://www.leokino.at/
SUMMARY:All my Sisters
END:VEVENT
END:VCALENDAR