BEGIN:VCALENDAR
VERSION:2.0
PRODID:-//ANWEB//NONSTOP KINO//EN
CALSCALE:GREGORIAN
BEGIN:VEVENT
DTSTART:20260430T160000Z
DTEND:20260430T184000Z
UID:69e76f221c7d0
DTSTAMP:20260421T103546Z
LOCATION:Admiral Kino, https://www.admiralkino.at/
DESCRIPTION:Alpha\, ein 13-jähriger Teenager\, lebt mit ihrer alleinerziehenden Mutter zusammen. Ihre Welt bricht zusammen\, als sie eines Tages mit einem...
URL;VALUE=URI:https://www.admiralkino.at/
SUMMARY:Alpha
END:VEVENT
END:VCALENDAR