BEGIN:VCALENDAR
VERSION:2.0
PRODID:-//ANWEB//NONSTOP KINO//EN
CALSCALE:GREGORIAN
BEGIN:VEVENT
DTSTART:20260604T180000Z
DTEND:20260604T200000Z
UID:69e88b70195bb
DTSTAMP:20260422T064848Z
LOCATION:Stadtkino Wien, https://stadtkinowien.at/
DESCRIPTION:
URL;VALUE=URI:https://stadtkinowien.at/
SUMMARY:Cinema Next Tour '26
END:VEVENT
END:VCALENDAR