BEGIN:VCALENDAR
VERSION:2.0
PRODID:-//ANWEB//NONSTOP KINO//EN
CALSCALE:GREGORIAN
BEGIN:VEVENT
DTSTART:20260523T120000Z
DTEND:20260523T140000Z
UID:69e8916f6a0c8
DTSTAMP:20260422T071423Z
LOCATION:Filmcasino, https://filmcasino.at/
DESCRIPTION:
URL;VALUE=URI:https://filmcasino.at/
SUMMARY:All my Sons - Theatre Live
END:VEVENT
END:VCALENDAR