BEGIN:VCALENDAR
VERSION:2.0
PRODID:-//ANWEB//NONSTOP KINO//EN
CALSCALE:GREGORIAN
BEGIN:VEVENT
DTSTART:20260423T180000Z
DTEND:20260423T204000Z
UID:69e770539a118
DTSTAMP:20260421T104051Z
LOCATION:Kino im Kesselhaus, https://www.kinoimkesselhaus.at/de/programm
DESCRIPTION:Derya (Özgü Namal) und Aziz (Tansu Biçer)\, ein gefeiertes Künstlerehepaar aus Ankara\, führen mit ihrer 13-jährigen Tochter Ezgi ein erfülltes...
URL;VALUE=URI:https://www.kinoimkesselhaus.at/de/programm
SUMMARY:Gelbe Briefe
END:VEVENT
END:VCALENDAR