BEGIN:VCALENDAR
VERSION:2.0
PRODID:-//ANWEB//NONSTOP KINO//EN
CALSCALE:GREGORIAN
BEGIN:VEVENT
DTSTART:20260425T183000Z
DTEND:20260425T211000Z
UID:69e77270c2496
DTSTAMP:20260421T104952Z
LOCATION:Kino im Kesselhaus, https://www.kinoimkesselhaus.at/de/programm
DESCRIPTION:Derya (Özgü Namal) und Aziz (Tansu Biçer)\, ein gefeiertes Künstlerehepaar aus Ankara\, führen mit ihrer 13-jährigen Tochter Ezgi ein erfülltes...
URL;VALUE=URI:https://www.kinoimkesselhaus.at/de/programm
SUMMARY:Gelbe Briefe
END:VEVENT
END:VCALENDAR