BEGIN:VCALENDAR
VERSION:2.0
PRODID:-//ANWEB//NONSTOP KINO//EN
CALSCALE:GREGORIAN
BEGIN:VEVENT
DTSTART:20260423T154500Z
DTEND:20260423T182500Z
UID:69e76fa3e65e7
DTSTAMP:20260421T103755Z
LOCATION:Actors Studio, https://cineplexx.at/cinemas/Actors-Studio
DESCRIPTION:Alpha\, ein 13-jähriger Teenager\, lebt mit ihrer alleinerziehenden Mutter zusammen. Ihre Welt bricht zusammen\, als sie eines Tages mit einem...
URL;VALUE=URI:https://cineplexx.at/cinemas/Actors-Studio
SUMMARY:Alpha
END:VEVENT
END:VCALENDAR