BEGIN:VCALENDAR
VERSION:2.0
PRODID:-//ANWEB//NONSTOP KINO//EN
CALSCALE:GREGORIAN
BEGIN:VEVENT
DTSTART:20260421T174500Z
DTEND:20260421T205500Z
UID:69e770da72a9b
DTSTAMP:20260421T104306Z
LOCATION:Actors Studio, https://cineplexx.at/cinemas/Actors-Studio
DESCRIPTION:DER MAGIER IM KREML ist ein Abstieg in die dunklen Korridore der Macht\, wo jedes Wort einem Plan dient und...
URL;VALUE=URI:https://cineplexx.at/cinemas/Actors-Studio
SUMMARY:Der Magier im Kreml
END:VEVENT
END:VCALENDAR