BEGIN:VCALENDAR
VERSION:2.0
PRODID:-//ANWEB//NONSTOP KINO//EN
CALSCALE:GREGORIAN
BEGIN:VEVENT
DTSTART:20260422T151500Z
DTEND:20260422T175500Z
UID:69e7718f17998
DTSTAMP:20260421T104607Z
LOCATION:Geidorf Kunstkino, https://www.cineplexx.at/cinemas/Geidorf-Kunstkino
DESCRIPTION:Derya (Özgü Namal) und Aziz (Tansu Biçer)\, ein gefeiertes Künstlerehepaar aus Ankara\, führen mit ihrer 13-jährigen Tochter Ezgi ein erfülltes...
URL;VALUE=URI:https://www.cineplexx.at/cinemas/Geidorf-Kunstkino
SUMMARY:Gelbe Briefe
END:VEVENT
END:VCALENDAR