BEGIN:VCALENDAR
VERSION:2.0
PRODID:-//ANWEB//NONSTOP KINO//EN
CALSCALE:GREGORIAN
BEGIN:VEVENT
DTSTART:20260421T154500Z
DTEND:20260421T182500Z
UID:69e7714156ff4
DTSTAMP:20260421T104449Z
LOCATION:DAS KINO, https://www.daskino.at/
DESCRIPTION:Derya (Özgü Namal) und Aziz (Tansu Biçer)\, ein gefeiertes Künstlerehepaar aus Ankara\, führen mit ihrer 13-jährigen Tochter Ezgi ein erfülltes...
URL;VALUE=URI:https://www.daskino.at/
SUMMARY:Gelbe Briefe
END:VEVENT
END:VCALENDAR