BEGIN:VCALENDAR
VERSION:2.0
PRODID:-//ANWEB//NONSTOP KINO//EN
CALSCALE:GREGORIAN
BEGIN:VEVENT
DTSTART:20260421T133000Z
DTEND:20260421T155000Z
UID:69e5f6434ecf1
DTSTAMP:20260420T074747Z
LOCATION:DAS KINO, https://www.daskino.at/
DESCRIPTION:Richard Linklaters mitreißende Hommage an ein ikonisches Werk der Filmgeschichte war ein Publikums- und Kritikerliebling der Internationalen Filmfestspiele in Cannes...
URL;VALUE=URI:https://www.daskino.at/
SUMMARY:Nouvelle Vague
END:VEVENT
END:VCALENDAR