BEGIN:VCALENDAR
VERSION:2.0
PRODID:-//ANWEB//NONSTOP KINO//EN
CALSCALE:GREGORIAN
BEGIN:VEVENT
DTSTART:20260423T184500Z
DTEND:20260423T210500Z
UID:69e55e6ecb315
DTSTAMP:20260419T205958Z
LOCATION:KIZ Royalkino, https://kizroyalkino.at/#/daily
DESCRIPTION:Colin (Harry Melling) führt ein zurückgezogenes Leben\, bis er eines Tages Ray (Alexander Skarsgård) begegnet\, dem mysteriösen Anführer eines queeren...
URL;VALUE=URI:https://kizroyalkino.at/#/daily
SUMMARY:Pillion
END:VEVENT
END:VCALENDAR