BEGIN:VCALENDAR
VERSION:2.0
PRODID:-//ANWEB//NONSTOP KINO//EN
CALSCALE:GREGORIAN
BEGIN:VEVENT
DTSTART:20260422T181500Z
DTEND:20260422T205500Z
UID:69e76f27d7462
DTSTAMP:20260421T103551Z
LOCATION:Bellaria Kino, https://www.bellariakino.at/
DESCRIPTION:Alpha\, ein 13-jähriger Teenager\, lebt mit ihrer alleinerziehenden Mutter zusammen. Ihre Welt bricht zusammen\, als sie eines Tages mit einem...
URL;VALUE=URI:https://www.bellariakino.at/
SUMMARY:Alpha
END:VEVENT
END:VCALENDAR