BEGIN:VCALENDAR
VERSION:2.0
PRODID:-//ANWEB//NONSTOP KINO//EN
CALSCALE:GREGORIAN
BEGIN:VEVENT
DTSTART:20260424T153000Z
DTEND:20260424T181000Z
UID:69e76e8045702
DTSTAMP:20260421T103304Z
LOCATION:Admiral Kino, https://www.admiralkino.at/
DESCRIPTION:Alpha\, ein 13-jähriger Teenager\, lebt mit ihrer alleinerziehenden Mutter zusammen. Ihre Welt bricht zusammen\, als sie eines Tages mit einem...
URL;VALUE=URI:https://www.admiralkino.at/
SUMMARY:Alpha
END:VEVENT
END:VCALENDAR