BEGIN:VCALENDAR
VERSION:2.0
PRODID:-//ANWEB//NONSTOP KINO//EN
CALSCALE:GREGORIAN
BEGIN:VEVENT
DTSTART:20260422T180000Z
DTEND:20260422T211000Z
UID:69e770da05f31
DTSTAMP:20260421T104306Z
LOCATION:CineCenter, https://www.cinecenter.at/
DESCRIPTION:DER MAGIER IM KREML ist ein Abstieg in die dunklen Korridore der Macht\, wo jedes Wort einem Plan dient und...
URL;VALUE=URI:https://www.cinecenter.at/
SUMMARY:Der Magier im Kreml
END:VEVENT
END:VCALENDAR