BEGIN:VCALENDAR
VERSION:2.0
PRODID:-//ANWEB//NONSTOP KINO//EN
CALSCALE:GREGORIAN
BEGIN:VEVENT
DTSTART:20260422T141500Z
DTEND:20260422T163500Z
UID:69e5f78079fed
DTSTAMP:20260420T075304Z
LOCATION:CineCenter, https://www.cinecenter.at/
DESCRIPTION:Richard Linklaters mitreißende Hommage an ein ikonisches Werk der Filmgeschichte war ein Publikums- und Kritikerliebling der Internationalen Filmfestspiele in Cannes...
URL;VALUE=URI:https://www.cinecenter.at/
SUMMARY:Nouvelle Vague
END:VEVENT
END:VCALENDAR