BEGIN:VCALENDAR
VERSION:2.0
PRODID:-//ANWEB//NONSTOP KINO//EN
CALSCALE:GREGORIAN
BEGIN:VEVENT
DTSTART:20260420T180000Z
DTEND:20260420T202000Z
UID:69e55e218fbb1
DTSTAMP:20260419T205841Z
LOCATION:De France, https://www.votivkino.at/
DESCRIPTION:Colin (Harry Melling) führt ein zurückgezogenes Leben\, bis er eines Tages Ray (Alexander Skarsgård) begegnet\, dem mysteriösen Anführer eines queeren...
URL;VALUE=URI:https://www.votivkino.at/
SUMMARY:Pillion
END:VEVENT
END:VCALENDAR