BEGIN:VCALENDAR
VERSION:2.0
PRODID:-//ANWEB//NONSTOP KINO//EN
CALSCALE:GREGORIAN
BEGIN:VEVENT
DTSTART:20260421T153000Z
DTEND:20260421T181000Z
UID:69e7725130b0d
DTSTAMP:20260421T104921Z
LOCATION:Moviemento, https://moviemento.at/
DESCRIPTION:Derya (Özgü Namal) und Aziz (Tansu Biçer)\, ein gefeiertes Künstlerehepaar aus Ankara\, führen mit ihrer 13-jährigen Tochter Ezgi ein erfülltes...
URL;VALUE=URI:https://moviemento.at/
SUMMARY:Gelbe Briefe
END:VEVENT
END:VCALENDAR