BEGIN:VCALENDAR
VERSION:2.0
PRODID:-//ANWEB//NONSTOP KINO//EN
CALSCALE:GREGORIAN
BEGIN:VEVENT
DTSTART:20260422T160000Z
DTEND:20260422T182000Z
UID:69e55eefdc347
DTSTAMP:20260419T210207Z
LOCATION:Schikaneder, https://www.schikaneder.at/
DESCRIPTION:Colin (Harry Melling) führt ein zurückgezogenes Leben\, bis er eines Tages Ray (Alexander Skarsgård) begegnet\, dem mysteriösen Anführer eines queeren...
URL;VALUE=URI:https://www.schikaneder.at/
SUMMARY:Pillion
END:VEVENT
END:VCALENDAR