BEGIN:VCALENDAR
VERSION:2.0
PRODID:-//ANWEB//NONSTOP KINO//EN
CALSCALE:GREGORIAN
BEGIN:VEVENT
DTSTART:20260421T132500Z
DTEND:20260421T160500Z
UID:69e76eea38d99
DTSTAMP:20260421T103450Z
LOCATION:Cinematograph, https://www.leokino.at/
DESCRIPTION:Alpha\, ein 13-jähriger Teenager\, lebt mit ihrer alleinerziehenden Mutter zusammen. Ihre Welt bricht zusammen\, als sie eines Tages mit einem...
URL;VALUE=URI:https://www.leokino.at/
SUMMARY:Alpha
END:VEVENT
END:VCALENDAR