BEGIN:VCALENDAR
VERSION:2.0
PRODID:-//ANWEB//NONSTOP KINO//EN
CALSCALE:GREGORIAN
BEGIN:VEVENT
DTSTART:20260422T175500Z
DTEND:20260422T203500Z
UID:69e76e49df076
DTSTAMP:20260421T103209Z
LOCATION:Cinematograph, https://www.leokino.at/
DESCRIPTION:Alpha\, ein 13-jähriger Teenager\, lebt mit ihrer alleinerziehenden Mutter zusammen. Ihre Welt bricht zusammen\, als sie eines Tages mit einem...
URL;VALUE=URI:https://www.leokino.at/
SUMMARY:Alpha
END:VEVENT
END:VCALENDAR