BEGIN:VCALENDAR
VERSION:2.0
PRODID:-//ANWEB//NONSTOP KINO//EN
CALSCALE:GREGORIAN
BEGIN:VEVENT
DTSTART:20260423T134500Z
DTEND:20260423T160500Z
UID:69e55e8e5558d
DTSTAMP:20260419T210030Z
LOCATION:Cinematograph, https://www.leokino.at/
DESCRIPTION:Colin (Harry Melling) führt ein zurückgezogenes Leben\, bis er eines Tages Ray (Alexander Skarsgård) begegnet\, dem mysteriösen Anführer eines queeren...
URL;VALUE=URI:https://www.leokino.at/
SUMMARY:Pillion
END:VEVENT
END:VCALENDAR