BEGIN:VCALENDAR
VERSION:2.0
PRODID:-//ANWEB//NONSTOP KINO//EN
CALSCALE:GREGORIAN
BEGIN:VEVENT
DTSTART:20260423T161500Z
DTEND:20260423T183500Z
UID:69e55f2e83417
DTSTAMP:20260419T210310Z
LOCATION:Programmkino Wels, https://programmkinowels.at/
DESCRIPTION:Colin (Harry Melling) führt ein zurückgezogenes Leben\, bis er eines Tages Ray (Alexander Skarsgård) begegnet\, dem mysteriösen Anführer eines queeren...
URL;VALUE=URI:https://programmkinowels.at/
SUMMARY:Pillion
END:VEVENT
END:VCALENDAR