BEGIN:VCALENDAR
VERSION:2.0
PRODID:-//ANWEB//NONSTOP KINO//EN
CALSCALE:GREGORIAN
BEGIN:VEVENT
DTSTART:20260421T140000Z
DTEND:20260421T164000Z
UID:69e771c383a00
DTSTAMP:20260421T104659Z
LOCATION:Programmkino Wels, https://programmkinowels.at/
DESCRIPTION:Derya (Özgü Namal) und Aziz (Tansu Biçer)\, ein gefeiertes Künstlerehepaar aus Ankara\, führen mit ihrer 13-jährigen Tochter Ezgi ein erfülltes...
URL;VALUE=URI:https://programmkinowels.at/
SUMMARY:Gelbe Briefe
END:VEVENT
END:VCALENDAR