BEGIN:VCALENDAR
VERSION:2.0
PRODID:-//ANWEB//NONSTOP KINO//EN
CALSCALE:GREGORIAN
BEGIN:VEVENT
DTSTART:20260422T181500Z
DTEND:20260422T205500Z
UID:69e771c39d58d
DTSTAMP:20260421T104659Z
LOCATION:Filmhaus, https://filmcasino.at/
DESCRIPTION:Derya (Özgü Namal) und Aziz (Tansu Biçer)\, ein gefeiertes Künstlerehepaar aus Ankara\, führen mit ihrer 13-jährigen Tochter Ezgi ein erfülltes...
URL;VALUE=URI:https://filmcasino.at/
SUMMARY:Gelbe Briefe
END:VEVENT
END:VCALENDAR