BEGIN:VCALENDAR
VERSION:2.0
PRODID:-//ANWEB//NONSTOP KINO//EN
CALSCALE:GREGORIAN
BEGIN:VEVENT
DTSTART:20260426T113000Z
DTEND:20260426T140000Z
UID:69e8f24c1e456
DTSTAMP:20260422T140740Z
LOCATION:Stadtkino Wien, https://stadtkinowien.at/
DESCRIPTION:Suk-jing ist von ganzem Herzen bemüht\, eine ‚gute Mutter‘ zu sein. Am Beginn des Tages pumpt sie Muttermilch ab\, übergibt...
URL;VALUE=URI:https://stadtkinowien.at/
SUMMARY:Montages of Modern Motherhood
END:VEVENT
END:VCALENDAR