BEGIN:VCALENDAR
VERSION:2.0
PRODID:-//ANWEB//NONSTOP KINO//EN
CALSCALE:GREGORIAN
BEGIN:VEVENT
DTSTART:20260426T140000Z
DTEND:20260426T162000Z
UID:69e987710658f
DTSTAMP:20260423T004401Z
LOCATION:Stadtkino Wien, https://stadtkinowien.at/
DESCRIPTION:Sommer 2001. Der siebzehnjährige Kein\, Markenzeichen grellrote Haare\, kehrt nach zehn Jahren in Vietnam zu seiner Familie auf den Markt...
URL;VALUE=URI:https://stadtkinowien.at/
SUMMARY:Summer School\, 2001
END:VEVENT
END:VCALENDAR