BEGIN:VCALENDAR
VERSION:2.0
PRODID:-//ANWEB//NONSTOP KINO//EN
CALSCALE:GREGORIAN
BEGIN:VEVENT
DTSTART:20260503T090000Z
DTEND:20260503T111000Z
UID:69ed0638f0405
DTSTAMP:20260425T162144Z
LOCATION:Admiral Kino, https://www.admiralkino.at/
DESCRIPTION:Astrid\, Elli und Isabella fahren wie früher gemeinsam zum Campen in die Steiermark. Doch nicht nur\, weil Elli Brustkrebs hat\,...
URL;VALUE=URI:https://www.admiralkino.at/
SUMMARY:Altweibersommer
END:VEVENT
END:VCALENDAR